BEGIN:VCALENDAR
VERSION:2.0
PRODID:-//Kollegium der Geometer und akademischen Geometer der Provinz Bozen - ECPv4.9.13//NONSGML v1.0//EN
CALSCALE:GREGORIAN
METHOD:PUBLISH
X-WR-CALNAME:Kollegium der Geometer und akademischen Geometer der Provinz Bozen
X-ORIGINAL-URL:https://www.geom.bz.it
X-WR-CALDESC:Veranstaltungen im Kollegium der Geometer und akademischen Geometer der Provinz Bozen
BEGIN:VTIMEZONE
TZID:Europe/Berlin
BEGIN:DAYLIGHT
TZOFFSETFROM:+0100
TZOFFSETTO:+0200
TZNAME:CEST
DTSTART:20260329T010000
END:DAYLIGHT
BEGIN:STANDARD
TZOFFSETFROM:+0200
TZOFFSETTO:+0100
TZNAME:CET
DTSTART:20261025T010000
END:STANDARD
END:VTIMEZONE
BEGIN:VEVENT
DTSTART;TZID=Europe/Berlin:20260306T080000
DTEND;TZID=Europe/Berlin:20260306T170000
DTSTAMP:20260421T162746
CREATED:20260213T091358Z
LAST-MODIFIED:20260213T091358Z
UID:15277-1772784000-1772816400@www.geom.bz.it
SUMMARY:06.03.2026 - Schabs CAADIX - Autodesk Revit Basic - Italiano
DESCRIPTION:06.03.2026 – Schabs CAADIX – Autodesk Revit Basic – Italiano \n
URL:https://www.geom.bz.it/event/06-03-2026-schabs-caadix-autodesk-revit-basic-italiano/
LOCATION:CAADIX\, Förche 46\, Natz Schabs\, Italien
END:VEVENT
END:VCALENDAR