BEGIN:VCALENDAR
VERSION:2.0
PRODID:-//Kollegium der Geometer und akademischen Geometer der Provinz Bozen - ECPv4.9.13//NONSGML v1.0//EN
CALSCALE:GREGORIAN
METHOD:PUBLISH
X-WR-CALNAME:Kollegium der Geometer und akademischen Geometer der Provinz Bozen
X-ORIGINAL-URL:https://www.geom.bz.it
X-WR-CALDESC:Veranstaltungen im Kollegium der Geometer und akademischen Geometer der Provinz Bozen
BEGIN:VTIMEZONE
TZID:Europe/Berlin
BEGIN:DAYLIGHT
TZOFFSETFROM:+0100
TZOFFSETTO:+0200
TZNAME:CEST
DTSTART:20210328T010000
END:DAYLIGHT
BEGIN:STANDARD
TZOFFSETFROM:+0200
TZOFFSETTO:+0100
TZNAME:CET
DTSTART:20211031T010000
END:STANDARD
END:VTIMEZONE
BEGIN:VEVENT
DTSTART;TZID=Europe/Berlin:20211007T090000
DTEND;TZID=Europe/Berlin:20211007T123000
DTSTAMP:20260419T155746
CREATED:20210920T072750Z
LAST-MODIFIED:20210920T072750Z
UID:9414-1633597200-1633609800@www.geom.bz.it
SUMMARY:07.10.2021 - Webinare - DECARBONIZZAZIONE - IL RUOLO CHIAVE DELLE POMPE DI CALORE - DEKARBONISIERUNG - DIE SCHLÜSSELROLLE VON WÄRMEPUMPEN
DESCRIPTION:07.10.2021 – Webinare – DECARBONIZZAZIONE – IL RUOLO CHIAVE DELLE POMPE DI CALORE – DEKARBONISIERUNG – DIE SCHLÜSSELROLLE VON WÄRMEPUMPEN \n
URL:https://www.geom.bz.it/event/07-10-2021-webinare-decarbonizzazione-il-ruolo-chiave-delle-pompe-di-calore-dekarbonisierung-die-schluesselrolle-von-waermepumpen/
LOCATION:Webinar
END:VEVENT
END:VCALENDAR