BEGIN:VCALENDAR
VERSION:2.0
PRODID:-//Kollegium der Geometer und akademischen Geometer der Provinz Bozen - ECPv4.9.13//NONSGML v1.0//EN
CALSCALE:GREGORIAN
METHOD:PUBLISH
X-WR-CALNAME:Kollegium der Geometer und akademischen Geometer der Provinz Bozen
X-ORIGINAL-URL:https://www.geom.bz.it
X-WR-CALDESC:Veranstaltungen im Kollegium der Geometer und akademischen Geometer der Provinz Bozen
BEGIN:VTIMEZONE
TZID:Europe/Berlin
BEGIN:DAYLIGHT
TZOFFSETFROM:+0100
TZOFFSETTO:+0200
TZNAME:CEST
DTSTART:20260329T010000
END:DAYLIGHT
BEGIN:STANDARD
TZOFFSETFROM:+0200
TZOFFSETTO:+0100
TZNAME:CET
DTSTART:20261025T010000
END:STANDARD
END:VTIMEZONE
BEGIN:VEVENT
DTSTART;TZID=Europe/Berlin:20260413T160000
DTEND;TZID=Europe/Berlin:20260413T180000
DTSTAMP:20260420T103654
CREATED:20260413T152827Z
LAST-MODIFIED:20260413T152827Z
UID:15711-1776096000-1776103200@www.geom.bz.it
SUMMARY:20.05.2026 - Webinar - Il codice dei Contratti pubblici tra giurisprudenta interna ed eurounionale
DESCRIPTION:20.05.2026 – Webinar – Il codice dei Contratti pubblici tra giurisprudenta interna ed eurounionale \n
URL:https://www.geom.bz.it/event/20-05-2026-webinar-il-codice-dei-contratti-pubblici-tra-giurisprudenta-interna-ed-eurounionale/
LOCATION:Webinar
END:VEVENT
END:VCALENDAR