BEGIN:VCALENDAR
VERSION:2.0
PRODID:-//Kollegium der Geometer und akademischen Geometer der Provinz Bozen - ECPv4.9.13//NONSGML v1.0//EN
CALSCALE:GREGORIAN
METHOD:PUBLISH
X-WR-CALNAME:Kollegium der Geometer und akademischen Geometer der Provinz Bozen
X-ORIGINAL-URL:https://www.geom.bz.it
X-WR-CALDESC:Veranstaltungen im Kollegium der Geometer und akademischen Geometer der Provinz Bozen
BEGIN:VTIMEZONE
TZID:Europe/Berlin
BEGIN:DAYLIGHT
TZOFFSETFROM:+0100
TZOFFSETTO:+0200
TZNAME:CEST
DTSTART:20250330T010000
END:DAYLIGHT
BEGIN:STANDARD
TZOFFSETFROM:+0200
TZOFFSETTO:+0100
TZNAME:CET
DTSTART:20251026T010000
END:STANDARD
END:VTIMEZONE
BEGIN:VEVENT
DTSTART;TZID=Europe/Berlin:20250922T143000
DTEND;TZID=Europe/Berlin:20250922T160000
DTSTAMP:20260421T134030
CREATED:20250918T165847Z
LAST-MODIFIED:20250918T165920Z
UID:14482-1758551400-1758556800@www.geom.bz.it
SUMMARY:22.09.2025 - Webinar - Appuntamento con l amministrazione di condominio
DESCRIPTION:22.09.2025 – Webinar – Appuntamento con l amministrazione di condominio \n
URL:https://www.geom.bz.it/event/22-09-2025-webinar-appuntamento-con-l-amministrazione-di-condominio/
LOCATION:Webinar
END:VEVENT
END:VCALENDAR