BEGIN:VCALENDAR
VERSION:2.0
PRODID:-//Kollegium der Geometer und akademischen Geometer der Provinz Bozen - ECPv4.9.13//NONSGML v1.0//EN
CALSCALE:GREGORIAN
METHOD:PUBLISH
X-WR-CALNAME:Kollegium der Geometer und akademischen Geometer der Provinz Bozen
X-ORIGINAL-URL:https://www.geom.bz.it
X-WR-CALDESC:Veranstaltungen im Kollegium der Geometer und akademischen Geometer der Provinz Bozen
BEGIN:VTIMEZONE
TZID:Europe/Berlin
BEGIN:DAYLIGHT
TZOFFSETFROM:+0100
TZOFFSETTO:+0200
TZNAME:CEST
DTSTART:20210328T010000
END:DAYLIGHT
BEGIN:STANDARD
TZOFFSETFROM:+0200
TZOFFSETTO:+0100
TZNAME:CET
DTSTART:20211031T010000
END:STANDARD
END:VTIMEZONE
BEGIN:VEVENT
DTSTART;TZID=Europe/Berlin:20210924T140000
DTEND;TZID=Europe/Berlin:20210924T180000
DTSTAMP:20260419T223419
CREATED:20210713T081842Z
LAST-MODIFIED:20210716T055332Z
UID:9170-1632492000-1632506400@www.geom.bz.it
SUMMARY:24.09 - 29.11-2021 - Webinar - Spezialisierungs-Grundkurs über Brandschutz – Corso Base  di specializzazione in prevenzione incendi
DESCRIPTION:24 – 29.11-2021 – Webinar – Spezialisierungs-Grundkurs über Brandschutz – Corso Base di specializzazione in prevenzione incendi \n
URL:https://www.geom.bz.it/event/24-29-11-2021-webinar-spezialisierungs-grundkurs-ueber-brandschutz-corso-base-di-specializzazione-in-prevenzione-incendi/
LOCATION:Webinar
END:VEVENT
END:VCALENDAR