BEGIN:VCALENDAR
VERSION:2.0
PRODID:-//Kollegium der Geometer und akademischen Geometer der Provinz Bozen - ECPv4.9.13//NONSGML v1.0//EN
CALSCALE:GREGORIAN
METHOD:PUBLISH
X-WR-CALNAME:Kollegium der Geometer und akademischen Geometer der Provinz Bozen
X-ORIGINAL-URL:https://www.geom.bz.it
X-WR-CALDESC:Veranstaltungen im Kollegium der Geometer und akademischen Geometer der Provinz Bozen
BEGIN:VTIMEZONE
TZID:Europe/Berlin
BEGIN:DAYLIGHT
TZOFFSETFROM:+0100
TZOFFSETTO:+0200
TZNAME:CEST
DTSTART:20200329T010000
END:DAYLIGHT
BEGIN:STANDARD
TZOFFSETFROM:+0200
TZOFFSETTO:+0100
TZNAME:CET
DTSTART:20201025T010000
END:STANDARD
END:VTIMEZONE
BEGIN:VEVENT
DTSTART;TZID=Europe/Berlin:20200122T083000
DTEND;TZID=Europe/Berlin:20200122T123000
DTSTAMP:20260423T201224
CREATED:20200113T085543Z
LAST-MODIFIED:20200113T090058Z
UID:5495-1579681800-1579696200@www.geom.bz.it
SUMMARY:Konferenz: Klimanotstand: Was geschieht in Südtirol? - Anmeldeschluß 14.01.2020
DESCRIPTION:2020 01 10 Flyer Konferenz UNIBZ (1) \n
URL:https://www.geom.bz.it/event/konferenz-klimanotstand-was-geschieht-in-suedtirol-anmeldeschluss-14-01-2020/
LOCATION:Libera Università di Bolzano\, Piazza Università 1\, Bolzano\, Italia
END:VEVENT
END:VCALENDAR