BEGIN:VCALENDAR
VERSION:2.0
PRODID:-//Kollegium der Geometer und akademischen Geometer der Provinz Bozen - ECPv4.9.13//NONSGML v1.0//EN
CALSCALE:GREGORIAN
METHOD:PUBLISH
X-WR-CALNAME:Kollegium der Geometer und akademischen Geometer der Provinz Bozen
X-ORIGINAL-URL:https://www.geom.bz.it
X-WR-CALDESC:Veranstaltungen im Kollegium der Geometer und akademischen Geometer der Provinz Bozen
BEGIN:VTIMEZONE
TZID:Europe/Berlin
BEGIN:DAYLIGHT
TZOFFSETFROM:+0100
TZOFFSETTO:+0200
TZNAME:CEST
DTSTART:20200329T010000
END:DAYLIGHT
BEGIN:STANDARD
TZOFFSETFROM:+0200
TZOFFSETTO:+0100
TZNAME:CET
DTSTART:20201025T010000
END:STANDARD
END:VTIMEZONE
BEGIN:VEVENT
DTSTART;TZID=Europe/Berlin:20200228T133000
DTEND;TZID=Europe/Berlin:20200228T180000
DTSTAMP:20260423T120824
CREATED:20200217T101011Z
LAST-MODIFIED:20200217T101953Z
UID:5870-1582896600-1582912800@www.geom.bz.it
SUMMARY:Seminar + Workshop 28.02+06.03 - Energetische Sanierung von historischen Fenstern / rinnovamento energico di finestre storiche
DESCRIPTION:1. Teil\nEinladung_Workshop_Planfenster_A4_ArchKammer \n
URL:https://www.geom.bz.it/event/seminar-workshop-28-0206-03-energetische-sanierung-von-historischen-fenstern-rinnovamento-energico-di-finestre-storiche/
LOCATION:NOI Techpark\, Via Volta 13A\, Bolzano\, Italien
END:VEVENT
END:VCALENDAR