BEGIN:VCALENDAR
VERSION:2.0
PRODID:-//Kollegium der Geometer und akademischen Geometer der Provinz Bozen - ECPv4.9.13//NONSGML v1.0//EN
CALSCALE:GREGORIAN
METHOD:PUBLISH
X-WR-CALNAME:Kollegium der Geometer und akademischen Geometer der Provinz Bozen
X-ORIGINAL-URL:https://www.geom.bz.it
X-WR-CALDESC:Veranstaltungen im Kollegium der Geometer und akademischen Geometer der Provinz Bozen
BEGIN:VTIMEZONE
TZID:Europe/Berlin
BEGIN:DAYLIGHT
TZOFFSETFROM:+0100
TZOFFSETTO:+0200
TZNAME:CEST
DTSTART:20260329T010000
END:DAYLIGHT
BEGIN:STANDARD
TZOFFSETFROM:+0200
TZOFFSETTO:+0100
TZNAME:CET
DTSTART:20261025T010000
END:STANDARD
END:VTIMEZONE
BEGIN:VEVENT
DTSTART;TZID=Europe/Berlin:20260317T080000
DTEND;TZID=Europe/Berlin:20260317T170000
DTSTAMP:20260421T171057
CREATED:20260213T091500Z
LAST-MODIFIED:20260213T091523Z
UID:15288-1773734400-1773766800@www.geom.bz.it
SUMMARY:17.03.2026 - Schabs CAADIX - Autodesk Autoca Basic
DESCRIPTION:17.03.2026 – Schabs CAADIX – Autodesk Autoca Basic \n
URL:https://www.geom.bz.it/event/17-03-2026-schabs-caadix-autodesk-autoca-basic/
LOCATION:CAADIX\, Förche 46\, Natz Schabs\, Italien
END:VEVENT
BEGIN:VEVENT
DTSTART;TZID=Europe/Berlin:20260317T143000
DTEND;TZID=Europe/Berlin:20260317T183000
DTSTAMP:20260421T171057
CREATED:20260304T183654Z
LAST-MODIFIED:20260304T183739Z
UID:15554-1773757800-1773772200@www.geom.bz.it
SUMMARY:17.03.2026 - Webinar - La legge di bilancio 2026
DESCRIPTION:17.03.2026 – Webinar – La legge di bilancio 2026 \n
URL:https://www.geom.bz.it/event/17-03-2026-webinar-la-legge-di-bilancio-2026/
LOCATION:Webinar
END:VEVENT
BEGIN:VEVENT
DTSTART;TZID=Europe/Berlin:20260317T150000
DTEND;TZID=Europe/Berlin:20260317T190000
DTSTAMP:20260421T171057
CREATED:20260226T125609Z
LAST-MODIFIED:20260226T125609Z
UID:15505-1773759600-1773774000@www.geom.bz.it
SUMMARY:17.03.2026 - 15.06.2026 - Webinar - CORSO ABILITANTE IN MATERIA DI PREVENZIONE INCENDI PER L ISCRIZIONE DEI PROFESSSIONISTI NEGLI ELENCHI DEL MINISTERO DELL INTERNO
DESCRIPTION:17.03.2026 – 15.06.2026 – Webinar – CORSO ABILITANTE IN MATERIA DI PREVENZIONE INCENDI PER L ISCRIZIONE DEI PROFESSSIONISTI NEGLI ELENCHI DEL MINISTERO DELL INTERNO \n
URL:https://www.geom.bz.it/event/17-03-2026-15-06-2026-webinar-corso-abilitante-in-materia-di-prevenzione-incendi-per-l-iscrizione-dei-professsionisti-negli-elenchi-del-ministero-dell-interno/
LOCATION:Webinar
END:VEVENT
END:VCALENDAR