BEGIN:VCALENDAR
VERSION:2.0
PRODID:-//Collegio dei Geometri e Geometri Laureati della Provincia di Bolzano - ECPv4.9.13//NONSGML v1.0//EN
CALSCALE:GREGORIAN
METHOD:PUBLISH
X-WR-CALNAME:Collegio dei Geometri e Geometri Laureati della Provincia di Bolzano
X-ORIGINAL-URL:https://www.geom.bz.it/it/
X-WR-CALDESC:Eventi per Collegio dei Geometri e Geometri Laureati della Provincia di Bolzano
BEGIN:VTIMEZONE
TZID:Europe/Berlin
BEGIN:DAYLIGHT
TZOFFSETFROM:+0100
TZOFFSETTO:+0200
TZNAME:CEST
DTSTART:20250330T010000
END:DAYLIGHT
BEGIN:STANDARD
TZOFFSETFROM:+0200
TZOFFSETTO:+0100
TZNAME:CET
DTSTART:20251026T010000
END:STANDARD
END:VTIMEZONE
BEGIN:VEVENT
DTSTART;TZID=Europe/Berlin:20250902T080000
DTEND;TZID=Europe/Berlin:20250902T170000
DTSTAMP:20260421T094905
CREATED:20250721T132849Z
LAST-MODIFIED:20250721T132905Z
UID:14306-1756800000-1756832400@www.geom.bz.it
SUMMARY:02.09.2025 - Universität Innsbruck - Geodätische Netze kompakt - Grundlagen\, Praxis und Vertiefung
DESCRIPTION:02.09.2025 – Universität Innsbruck – Geodätische Netze kompakt – Grundlagen\, Praxis und Vertiefung \n
URL:https://www.geom.bz.it/it/event/02-09-2025-universitaet-innsbruck-geodaetische-netze-kompakt-grundlagen-praxis-und-vertiefung/
LOCATION:Universität Innsbruck\, Technikerstraße 13\, Innsbruck\, Österreich
END:VEVENT
END:VCALENDAR