BEGIN:VCALENDAR
VERSION:2.0
PRODID:-//Collegio dei Geometri e Geometri Laureati della Provincia di Bolzano - ECPv4.9.13//NONSGML v1.0//EN
CALSCALE:GREGORIAN
METHOD:PUBLISH
X-WR-CALNAME:Collegio dei Geometri e Geometri Laureati della Provincia di Bolzano
X-ORIGINAL-URL:https://www.geom.bz.it/it/
X-WR-CALDESC:Eventi per Collegio dei Geometri e Geometri Laureati della Provincia di Bolzano
BEGIN:VTIMEZONE
TZID:Europe/Berlin
BEGIN:DAYLIGHT
TZOFFSETFROM:+0100
TZOFFSETTO:+0200
TZNAME:CEST
DTSTART:20220327T010000
END:DAYLIGHT
BEGIN:STANDARD
TZOFFSETFROM:+0200
TZOFFSETTO:+0100
TZNAME:CET
DTSTART:20221030T010000
END:STANDARD
END:VTIMEZONE
BEGIN:VEVENT
DTSTART;TZID=Europe/Berlin:20220413T150000
DTEND;TZID=Europe/Berlin:20220413T180000
DTSTAMP:20260421T105041
CREATED:20220330T064826Z
LAST-MODIFIED:20220330T064916Z
UID:9958-1649862000-1649872800@www.geom.bz.it
SUMMARY:13.04.2022 - Webinare - Siti contaminati e bonifiche ecocompatibili
DESCRIPTION:13.04.2022 – Webinare – Siti contaminati e bonifiche ecocompatibili \n
URL:https://www.geom.bz.it/it/event/13-04-2022-webinare-siti-contaminati-e-bonifiche-ecocompatibili/
LOCATION:Webinar
END:VEVENT
END:VCALENDAR