BEGIN:VCALENDAR
VERSION:2.0
PRODID:-//Collegio dei Geometri e Geometri Laureati della Provincia di Bolzano - ECPv4.9.13//NONSGML v1.0//EN
CALSCALE:GREGORIAN
METHOD:PUBLISH
X-WR-CALNAME:Collegio dei Geometri e Geometri Laureati della Provincia di Bolzano
X-ORIGINAL-URL:https://www.geom.bz.it/it/
X-WR-CALDESC:Eventi per Collegio dei Geometri e Geometri Laureati della Provincia di Bolzano
BEGIN:VTIMEZONE
TZID:Europe/Berlin
BEGIN:DAYLIGHT
TZOFFSETFROM:+0100
TZOFFSETTO:+0200
TZNAME:CEST
DTSTART:20210328T010000
END:DAYLIGHT
BEGIN:STANDARD
TZOFFSETFROM:+0200
TZOFFSETTO:+0100
TZNAME:CET
DTSTART:20211031T010000
END:STANDARD
END:VTIMEZONE
BEGIN:VEVENT
DTSTART;TZID=Europe/Berlin:20211013T090000
DTEND;TZID=Europe/Berlin:20211013T150000
DTSTAMP:20260419T125147
CREATED:20210928T102310Z
LAST-MODIFIED:20210928T102403Z
UID:9438-1634115600-1634137200@www.geom.bz.it
SUMMARY:13.10.2021 - Seminar Area NOI Techpark - La ricerca e l’innovazione come leva per la transizione ecologica e per l'attuazione del piano di ripresa e resilienza
DESCRIPTION:13.10.2021 – Seminar Area NOI Techpark – La ricerca e l’innovazione come leva per la transizione ecologica e per l’attuazione del piano di ripresa e resilienza \n
URL:https://www.geom.bz.it/it/event/13-10-2021-seminar-area-noi-techpark-forschung-und-entwicklung-als-hebel-fuer-den-oekologischen-wandel-und-die-umsetzung-des-ital-recovery-plan/
LOCATION:NOI Techpark\, Via Volta 13A\, Bolzano\, Italien
END:VEVENT
END:VCALENDAR