BEGIN:VCALENDAR
VERSION:2.0
PRODID:-//Collegio dei Geometri e Geometri Laureati della Provincia di Bolzano - ECPv4.9.13//NONSGML v1.0//EN
CALSCALE:GREGORIAN
METHOD:PUBLISH
X-WR-CALNAME:Collegio dei Geometri e Geometri Laureati della Provincia di Bolzano
X-ORIGINAL-URL:https://www.geom.bz.it/it/
X-WR-CALDESC:Eventi per Collegio dei Geometri e Geometri Laureati della Provincia di Bolzano
BEGIN:VTIMEZONE
TZID:Europe/Berlin
BEGIN:DAYLIGHT
TZOFFSETFROM:+0100
TZOFFSETTO:+0200
TZNAME:CEST
DTSTART:20230326T010000
END:DAYLIGHT
BEGIN:STANDARD
TZOFFSETFROM:+0200
TZOFFSETTO:+0100
TZNAME:CET
DTSTART:20231029T010000
END:STANDARD
END:VTIMEZONE
BEGIN:VEVENT
DTSTART;TZID=Europe/Berlin:20230516T090000
DTEND;TZID=Europe/Berlin:20230516T130000
DTSTAMP:20260422T165737
CREATED:20230502T131019Z
LAST-MODIFIED:20230502T131019Z
UID:11328-1684227600-1684242000@www.geom.bz.it
SUMMARY:16.05 - 26.10.2023 - Programma_CALENDARIO_corso_abilitazione_2023
DESCRIPTION:16.05 – 26.10.2023 – Programma_CALENDARIO_corso_abilitazione_2023 \n
URL:https://www.geom.bz.it/it/event/16-05-26-10-2023-programma_calendario_corso_abilitazione_2023/
LOCATION:Webinar
END:VEVENT
END:VCALENDAR