BEGIN:VCALENDAR
VERSION:2.0
PRODID:-//Collegio dei Geometri e Geometri Laureati della Provincia di Bolzano - ECPv4.9.13//NONSGML v1.0//EN
CALSCALE:GREGORIAN
METHOD:PUBLISH
X-WR-CALNAME:Collegio dei Geometri e Geometri Laureati della Provincia di Bolzano
X-ORIGINAL-URL:https://www.geom.bz.it/it/
X-WR-CALDESC:Eventi per Collegio dei Geometri e Geometri Laureati della Provincia di Bolzano
BEGIN:VTIMEZONE
TZID:Europe/Berlin
BEGIN:DAYLIGHT
TZOFFSETFROM:+0100
TZOFFSETTO:+0200
TZNAME:CEST
DTSTART:20210328T010000
END:DAYLIGHT
BEGIN:STANDARD
TZOFFSETFROM:+0200
TZOFFSETTO:+0100
TZNAME:CET
DTSTART:20211031T010000
END:STANDARD
END:VTIMEZONE
BEGIN:VEVENT
DTSTART;TZID=Europe/Berlin:20211116T143000
DTEND;TZID=Europe/Berlin:20211116T183000
DTSTAMP:20260423T180235
CREATED:20211103T094046Z
LAST-MODIFIED:20211103T094109Z
UID:9586-1637073000-1637087400@www.geom.bz.it
SUMMARY:16.11.2021 - Webinar - Il DL 146-2021 e le modifiche al.lgs. 81-2008 contrasto alle morti sul lavoro
DESCRIPTION: \n
URL:https://www.geom.bz.it/it/event/16-11-2021-webinar-il-dl-146-2021-e-le-modifiche-al-lgs-81-2008-contrasto-alle-morti-sul-lavoro/
LOCATION:Webinar
END:VEVENT
END:VCALENDAR