BEGIN:VCALENDAR
VERSION:2.0
PRODID:-//Collegio dei Geometri e Geometri Laureati della Provincia di Bolzano - ECPv4.9.13//NONSGML v1.0//EN
CALSCALE:GREGORIAN
METHOD:PUBLISH
X-WR-CALNAME:Collegio dei Geometri e Geometri Laureati della Provincia di Bolzano
X-ORIGINAL-URL:https://www.geom.bz.it/it/
X-WR-CALDESC:Eventi per Collegio dei Geometri e Geometri Laureati della Provincia di Bolzano
BEGIN:VTIMEZONE
TZID:Europe/Berlin
BEGIN:DAYLIGHT
TZOFFSETFROM:+0100
TZOFFSETTO:+0200
TZNAME:CEST
DTSTART:20260329T010000
END:DAYLIGHT
BEGIN:STANDARD
TZOFFSETFROM:+0200
TZOFFSETTO:+0100
TZNAME:CET
DTSTART:20261025T010000
END:STANDARD
END:VTIMEZONE
BEGIN:VEVENT
DTSTART;TZID=Europe/Berlin:20260317T150000
DTEND;TZID=Europe/Berlin:20260317T190000
DTSTAMP:20260421T190737
CREATED:20260226T125609Z
LAST-MODIFIED:20260226T125625Z
UID:15509-1773759600-1773774000@www.geom.bz.it
SUMMARY:17.03.2026 - 15.06.2026 - Webinar - CORSO ABILITANTE IN MATERIA DI PREVENZIONE INCENDI PER L ISCRIZIONE DEI PROFESSSIONISTI NEGLI ELENCHI DEL MINISTERO DELL INTERNO
DESCRIPTION:17.03.2026 – 15.06.2026 – Webinar – CORSO ABILITANTE IN MATERIA DI PREVENZIONE INCENDI PER L ISCRIZIONE DEI PROFESSSIONISTI NEGLI ELENCHI DEL MINISTERO DELL INTERNO \n
URL:https://www.geom.bz.it/it/event/17-03-2026-15-06-2026-webinar-corso-abilitante-in-materia-di-prevenzione-incendi-per-l-iscrizione-dei-professsionisti-negli-elenchi-del-ministero-dell-interno/
LOCATION:Webinar
END:VEVENT
END:VCALENDAR