BEGIN:VCALENDAR
VERSION:2.0
PRODID:-//Collegio dei Geometri e Geometri Laureati della Provincia di Bolzano - ECPv4.9.13//NONSGML v1.0//EN
CALSCALE:GREGORIAN
METHOD:PUBLISH
X-WR-CALNAME:Collegio dei Geometri e Geometri Laureati della Provincia di Bolzano
X-ORIGINAL-URL:https://www.geom.bz.it/it/
X-WR-CALDESC:Eventi per Collegio dei Geometri e Geometri Laureati della Provincia di Bolzano
BEGIN:VTIMEZONE
TZID:Europe/Berlin
BEGIN:DAYLIGHT
TZOFFSETFROM:+0100
TZOFFSETTO:+0200
TZNAME:CEST
DTSTART:20230326T010000
END:DAYLIGHT
BEGIN:STANDARD
TZOFFSETFROM:+0200
TZOFFSETTO:+0100
TZNAME:CET
DTSTART:20231029T010000
END:STANDARD
END:VTIMEZONE
BEGIN:VEVENT
DTSTART;TZID=Europe/Berlin:20230517T180000
DTEND;TZID=Europe/Berlin:20230517T190000
DTSTAMP:20260422T165820
CREATED:20230314T093314Z
LAST-MODIFIED:20230314T093435Z
UID:11190-1684346400-1684350000@www.geom.bz.it
SUMMARY:17.05.2023 - Universität Innsbruck - Geodätisches Kolloquim - rmDATA Smart Area\,das umfangreiche Informationssystem für Bergbahnen\,bietet neue Chancen für Ingeniere
DESCRIPTION:17.05.2023 – Universität Innsbruck – Geodätisches Kolloquim – rmDATA Smart Area\,das umfangreiche Informationssystem für Bergbahnen\,bietet neue Chancen für Ingeniere \n
URL:https://www.geom.bz.it/it/event/17-05-2023-universitaet-innsbruck-geodaetisches-kolloquim-rmdata-smart-areadas-umfangreiche-informationssystem-fuer-bergbahnenbietet-neue-chancen-fuer-ingeniere/
LOCATION:Universität Innsbruck\, Technikerstraße 13\, Innsbruck\, Österreich
END:VEVENT
END:VCALENDAR