BEGIN:VCALENDAR
VERSION:2.0
PRODID:-//Collegio dei Geometri e Geometri Laureati della Provincia di Bolzano - ECPv4.9.13//NONSGML v1.0//EN
CALSCALE:GREGORIAN
METHOD:PUBLISH
X-WR-CALNAME:Collegio dei Geometri e Geometri Laureati della Provincia di Bolzano
X-ORIGINAL-URL:https://www.geom.bz.it/it/
X-WR-CALDESC:Eventi per Collegio dei Geometri e Geometri Laureati della Provincia di Bolzano
BEGIN:VTIMEZONE
TZID:Europe/Berlin
BEGIN:DAYLIGHT
TZOFFSETFROM:+0100
TZOFFSETTO:+0200
TZNAME:CEST
DTSTART:20210328T010000
END:DAYLIGHT
BEGIN:STANDARD
TZOFFSETFROM:+0200
TZOFFSETTO:+0100
TZNAME:CET
DTSTART:20211031T010000
END:STANDARD
END:VTIMEZONE
BEGIN:VEVENT
DTSTART;TZID=Europe/Berlin:20210917T140000
DTEND;TZID=Europe/Berlin:20210917T180000
DTSTAMP:20260419T204830
CREATED:20210914T113944Z
LAST-MODIFIED:20210914T113944Z
UID:9405-1631887200-1631901600@www.geom.bz.it
SUMMARY:17.09.2021 - WEBINAR - La progettazione dei grandi eventi - Die Planung von Großveranstaltungen
DESCRIPTION:17.09.2021 – WEBINAR – La progettazione dei grandi eventi – Die Planung von Großveranstaltungen \n
URL:https://www.geom.bz.it/it/event/17-09-2021-webinar-la-progettazione-dei-grandi-eventi-die-planung-von-grossveranstaltungen/
LOCATION:Webinar
END:VEVENT
END:VCALENDAR