BEGIN:VCALENDAR
VERSION:2.0
PRODID:-//Collegio dei Geometri e Geometri Laureati della Provincia di Bolzano - ECPv4.9.13//NONSGML v1.0//EN
CALSCALE:GREGORIAN
METHOD:PUBLISH
X-WR-CALNAME:Collegio dei Geometri e Geometri Laureati della Provincia di Bolzano
X-ORIGINAL-URL:https://www.geom.bz.it/it/
X-WR-CALDESC:Eventi per Collegio dei Geometri e Geometri Laureati della Provincia di Bolzano
BEGIN:VTIMEZONE
TZID:Europe/Berlin
BEGIN:DAYLIGHT
TZOFFSETFROM:+0100
TZOFFSETTO:+0200
TZNAME:CEST
DTSTART:20260329T010000
END:DAYLIGHT
BEGIN:STANDARD
TZOFFSETFROM:+0200
TZOFFSETTO:+0100
TZNAME:CET
DTSTART:20261025T010000
END:STANDARD
END:VTIMEZONE
BEGIN:VEVENT
DTSTART;TZID=Europe/Berlin:20260318T090000
DTEND;TZID=Europe/Berlin:20260318T180000
DTSTAMP:20260421T202956
CREATED:20260213T091234Z
LAST-MODIFIED:20260213T091248Z
UID:15274-1773824400-1773856800@www.geom.bz.it
SUMMARY:18.03.2026 - Schabs CAADIX - Autodesk Docs - Construction Cloud
DESCRIPTION:18.03.2026 – Schabs CAADIX – Autodesk Docs – Construction Cloud \n
URL:https://www.geom.bz.it/it/event/18-03-2026-schabs-caadix-autodesk-docs-construction-cloud/
LOCATION:CAADIX\, Förche 46\, Natz Schabs\, Italien
END:VEVENT
END:VCALENDAR