BEGIN:VCALENDAR
VERSION:2.0
PRODID:-//Collegio dei Geometri e Geometri Laureati della Provincia di Bolzano - ECPv4.9.13//NONSGML v1.0//EN
CALSCALE:GREGORIAN
METHOD:PUBLISH
X-WR-CALNAME:Collegio dei Geometri e Geometri Laureati della Provincia di Bolzano
X-ORIGINAL-URL:https://www.geom.bz.it/it/
X-WR-CALDESC:Eventi per Collegio dei Geometri e Geometri Laureati della Provincia di Bolzano
BEGIN:VTIMEZONE
TZID:Europe/Berlin
BEGIN:DAYLIGHT
TZOFFSETFROM:+0100
TZOFFSETTO:+0200
TZNAME:CEST
DTSTART:20220327T010000
END:DAYLIGHT
BEGIN:STANDARD
TZOFFSETFROM:+0200
TZOFFSETTO:+0100
TZNAME:CET
DTSTART:20221030T010000
END:STANDARD
END:VTIMEZONE
BEGIN:VEVENT
DTSTART;TZID=Europe/Berlin:20220124T170000
DTEND;TZID=Europe/Berlin:20220124T193000
DTSTAMP:20260423T225018
CREATED:20220119T162949Z
LAST-MODIFIED:20220119T162949Z
UID:9722-1643043600-1643052600@www.geom.bz.it
SUMMARY:24.01.2022 - Webinar - I CONTROLLI PRELIMINARI DELL’ESPERTO STIMATORE
DESCRIPTION:24.01.2022 – Webinar – I CONTROLLI PRELIMINARI DELL’ESPERTO STIMATORE \n
URL:https://www.geom.bz.it/it/event/24-01-2022-webinar-i-controlli-preliminari-dellesperto-stimatore/
LOCATION:Webinar
END:VEVENT
END:VCALENDAR