BEGIN:VCALENDAR
VERSION:2.0
PRODID:-//Collegio dei Geometri e Geometri Laureati della Provincia di Bolzano - ECPv4.9.13//NONSGML v1.0//EN
CALSCALE:GREGORIAN
METHOD:PUBLISH
X-WR-CALNAME:Collegio dei Geometri e Geometri Laureati della Provincia di Bolzano
X-ORIGINAL-URL:https://www.geom.bz.it/it/
X-WR-CALDESC:Eventi per Collegio dei Geometri e Geometri Laureati della Provincia di Bolzano
BEGIN:VTIMEZONE
TZID:Europe/Berlin
BEGIN:DAYLIGHT
TZOFFSETFROM:+0100
TZOFFSETTO:+0200
TZNAME:CEST
DTSTART:20230326T010000
END:DAYLIGHT
BEGIN:STANDARD
TZOFFSETFROM:+0200
TZOFFSETTO:+0100
TZNAME:CET
DTSTART:20231029T010000
END:STANDARD
END:VTIMEZONE
BEGIN:VEVENT
DTSTART;TZID=Europe/Berlin:20230524T173000
DTEND;TZID=Europe/Berlin:20230524T203000
DTSTAMP:20260422T133218
CREATED:20230516T163116Z
LAST-MODIFIED:20230519T132725Z
UID:11395-1684949400-1684960200@www.geom.bz.it
SUMMARY:24.05.2023 - Bolzano - La competenza nell' amministrazione immobiliare - 3 BGH
DESCRIPTION:24.05.2023 – Bolzano – La competenza nell’ amministrazione immobiliare – 3 BGH \n
URL:https://www.geom.bz.it/it/event/24-05-2023-bolzano-la-competenza-nell-amministrazione-immobiliare-3-bgh/
LOCATION:Bozen\, Piazza Duomo 2\, Bozen\, 39031\, Italien
END:VEVENT
END:VCALENDAR