BEGIN:VCALENDAR
VERSION:2.0
PRODID:-//Collegio dei Geometri e Geometri Laureati della Provincia di Bolzano - ECPv4.9.13//NONSGML v1.0//EN
CALSCALE:GREGORIAN
METHOD:PUBLISH
X-WR-CALNAME:Collegio dei Geometri e Geometri Laureati della Provincia di Bolzano
X-ORIGINAL-URL:https://www.geom.bz.it/it/
X-WR-CALDESC:Eventi per Collegio dei Geometri e Geometri Laureati della Provincia di Bolzano
BEGIN:VTIMEZONE
TZID:Europe/Berlin
BEGIN:DAYLIGHT
TZOFFSETFROM:+0100
TZOFFSETTO:+0200
TZNAME:CEST
DTSTART:20230326T010000
END:DAYLIGHT
BEGIN:STANDARD
TZOFFSETFROM:+0200
TZOFFSETTO:+0100
TZNAME:CET
DTSTART:20231029T010000
END:STANDARD
END:VTIMEZONE
BEGIN:VEVENT
DTSTART;TZID=Europe/Berlin:20230527T143000
DTEND;TZID=Europe/Berlin:20230527T183000
DTSTAMP:20260422T071525
CREATED:20230420T134658Z
LAST-MODIFIED:20230420T134741Z
UID:11307-1685197800-1685212200@www.geom.bz.it
SUMMARY:27.04.2023 - Webinar - La sicurezza negli ambienti confinati o sospetti di inquinamento
DESCRIPTION: \n
URL:https://www.geom.bz.it/it/event/27-04-2023-webinar-la-sicurezza-negli-ambienti-confinati-o-sospetti-di-inquinamento/
LOCATION:Webinar
END:VEVENT
END:VCALENDAR