BEGIN:VCALENDAR
VERSION:2.0
PRODID:-//Collegio dei Geometri e Geometri Laureati della Provincia di Bolzano - ECPv4.9.13//NONSGML v1.0//EN
CALSCALE:GREGORIAN
METHOD:PUBLISH
X-WR-CALNAME:Collegio dei Geometri e Geometri Laureati della Provincia di Bolzano
X-ORIGINAL-URL:https://www.geom.bz.it/it/
X-WR-CALDESC:Eventi per Collegio dei Geometri e Geometri Laureati della Provincia di Bolzano
BEGIN:VTIMEZONE
TZID:Europe/Berlin
BEGIN:DAYLIGHT
TZOFFSETFROM:+0100
TZOFFSETTO:+0200
TZNAME:CEST
DTSTART:20210328T010000
END:DAYLIGHT
BEGIN:STANDARD
TZOFFSETFROM:+0200
TZOFFSETTO:+0100
TZNAME:CET
DTSTART:20211031T010000
END:STANDARD
END:VTIMEZONE
BEGIN:VEVENT
DTSTART;TZID=Europe/Berlin:20210927T080000
DTEND;TZID=Europe/Berlin:20210927T170000
DTSTAMP:20260419T173649
CREATED:20210716T053957Z
LAST-MODIFIED:20210716T053957Z
UID:9190-1632729600-1632762000@www.geom.bz.it
SUMMARY:27-29.09.2021 - Webinar - L’involucro a regola d’arte – La progettazione dell’isolamento acustico di facciata e dei solai
DESCRIPTION:27-29.09.2021 – Webinar – L’involucro a regola d’arte – La progettazione dell’isolamento acustico di facciata e dei solai \n
URL:https://www.geom.bz.it/it/event/27-29-09-2021-webinar-linvolucro-a-regola-darte-la-progettazione-dellisolamento-acustico-di-facciata-e-dei-solai/
LOCATION:Webinar
END:VEVENT
END:VCALENDAR