BEGIN:VCALENDAR
VERSION:2.0
PRODID:-//Collegio dei Geometri e Geometri Laureati della Provincia di Bolzano - ECPv4.9.13//NONSGML v1.0//EN
CALSCALE:GREGORIAN
METHOD:PUBLISH
X-WR-CALNAME:Collegio dei Geometri e Geometri Laureati della Provincia di Bolzano
X-ORIGINAL-URL:https://www.geom.bz.it/it/
X-WR-CALDESC:Eventi per Collegio dei Geometri e Geometri Laureati della Provincia di Bolzano
BEGIN:VTIMEZONE
TZID:Europe/Berlin
BEGIN:DAYLIGHT
TZOFFSETFROM:+0100
TZOFFSETTO:+0200
TZNAME:CEST
DTSTART:20260329T010000
END:DAYLIGHT
BEGIN:STANDARD
TZOFFSETFROM:+0200
TZOFFSETTO:+0100
TZNAME:CET
DTSTART:20261025T010000
END:STANDARD
END:VTIMEZONE
BEGIN:VEVENT
DTSTART;TZID=Europe/Berlin:20260417T140000
DTEND;TZID=Europe/Berlin:20260417T180000
DTSTAMP:20260420T113322
CREATED:20260417T073854Z
LAST-MODIFIED:20260417T073919Z
UID:15734-1776434400-1776448800@www.geom.bz.it
SUMMARY:28.05 - 25.06 - 30.07 - 24.08 - 15.10 - 29.10 - 12.11 - 26.11.2026 - Webinar - Aggiornamento per Coordinatore Sicurezza nei cantieri CSP-CSE
DESCRIPTION: \n
URL:https://www.geom.bz.it/it/event/28-05-25-06-30-07-24-08-15-10-29-10-12-11-26-11-2026-webinar-aggiornamento-per-coordinatore-sicurezza-nei-cantieri-csp-cse/
LOCATION:Webinar
END:VEVENT
END:VCALENDAR