BEGIN:VCALENDAR
VERSION:2.0
PRODID:-//Collegio dei Geometri e Geometri Laureati della Provincia di Bolzano - ECPv4.9.13//NONSGML v1.0//EN
CALSCALE:GREGORIAN
METHOD:PUBLISH
X-WR-CALNAME:Collegio dei Geometri e Geometri Laureati della Provincia di Bolzano
X-ORIGINAL-URL:https://www.geom.bz.it/it/
X-WR-CALDESC:Eventi per Collegio dei Geometri e Geometri Laureati della Provincia di Bolzano
BEGIN:VTIMEZONE
TZID:Europe/Berlin
BEGIN:DAYLIGHT
TZOFFSETFROM:+0100
TZOFFSETTO:+0200
TZNAME:CEST
DTSTART:20250330T010000
END:DAYLIGHT
BEGIN:STANDARD
TZOFFSETFROM:+0200
TZOFFSETTO:+0100
TZNAME:CET
DTSTART:20251026T010000
END:STANDARD
END:VTIMEZONE
BEGIN:VEVENT
DTSTART;TZID=Europe/Berlin:20251128T180000
DTEND;TZID=Europe/Berlin:20251128T200000
DTSTAMP:20260419T223829
CREATED:20251106T083944Z
LAST-MODIFIED:20251106T083958Z
UID:14865-1764352800-1764360000@www.geom.bz.it
SUMMARY:28.11.2025 - Webinar - Aggiornamento Coordinatori Sicurezza
DESCRIPTION:28.11.2025 – Webinar – Aggiornamento Coordinatori Sicurezza \n
URL:https://www.geom.bz.it/it/event/28-11-2025-webinar-aggiornamento-coordinatori-sicurezza/
LOCATION:Webinar
END:VEVENT
END:VCALENDAR