BEGIN:VCALENDAR
VERSION:2.0
PRODID:-//Collegio dei Geometri e Geometri Laureati della Provincia di Bolzano - ECPv4.9.13//NONSGML v1.0//EN
CALSCALE:GREGORIAN
METHOD:PUBLISH
X-WR-CALNAME:Collegio dei Geometri e Geometri Laureati della Provincia di Bolzano
X-ORIGINAL-URL:https://www.geom.bz.it/it/
X-WR-CALDESC:Eventi per Collegio dei Geometri e Geometri Laureati della Provincia di Bolzano
BEGIN:VTIMEZONE
TZID:Europe/Berlin
BEGIN:DAYLIGHT
TZOFFSETFROM:+0100
TZOFFSETTO:+0200
TZNAME:CEST
DTSTART:20260329T010000
END:DAYLIGHT
BEGIN:STANDARD
TZOFFSETFROM:+0200
TZOFFSETTO:+0100
TZNAME:CET
DTSTART:20261025T010000
END:STANDARD
END:VTIMEZONE
BEGIN:VEVENT
DTSTART;TZID=Europe/Berlin:20260326T140000
DTEND;TZID=Europe/Berlin:20260326T170000
DTSTAMP:20260421T190437
CREATED:20260310T075346Z
LAST-MODIFIED:20260310T075403Z
UID:15586-1774533600-1774544400@www.geom.bz.it
SUMMARY:26.03.2026 - Webinar - Aggiornamento per Coordinatore Sicurezza nei cantieri CSP-CSE
DESCRIPTION: \n
URL:https://www.geom.bz.it/it/event/26-03-2026-webinar-aggiornamento-per-coordinatore-sicurezza-nei-cantieri-csp-cse/
LOCATION:Webinar
END:VEVENT
END:VCALENDAR