BEGIN:VCALENDAR
VERSION:2.0
PRODID:-//Collegio dei Geometri e Geometri Laureati della Provincia di Bolzano - ECPv4.9.13//NONSGML v1.0//EN
CALSCALE:GREGORIAN
METHOD:PUBLISH
X-WR-CALNAME:Collegio dei Geometri e Geometri Laureati della Provincia di Bolzano
X-ORIGINAL-URL:https://www.geom.bz.it/it/
X-WR-CALDESC:Eventi per Collegio dei Geometri e Geometri Laureati della Provincia di Bolzano
BEGIN:VTIMEZONE
TZID:Europe/Berlin
BEGIN:DAYLIGHT
TZOFFSETFROM:+0100
TZOFFSETTO:+0200
TZNAME:CEST
DTSTART:20260329T010000
END:DAYLIGHT
BEGIN:STANDARD
TZOFFSETFROM:+0200
TZOFFSETTO:+0100
TZNAME:CET
DTSTART:20261025T010000
END:STANDARD
END:VTIMEZONE
BEGIN:VEVENT
DTSTART;TZID=Europe/Berlin:20260327T080000
DTEND;TZID=Europe/Berlin:20260327T170000
DTSTAMP:20260421T185619
CREATED:20260219T143217Z
LAST-MODIFIED:20260219T143217Z
UID:15383-1774598400-1774630800@www.geom.bz.it
SUMMARY:27.03.2026 - Schabs CAADIX  - Autodesk Revit Familien
DESCRIPTION:27.03.2026 – Schabs CAADIX – Autodesk Revit Familien \n
URL:https://www.geom.bz.it/it/event/27-03-2026-schabs-caadix-autodesk-revit-familien/
LOCATION:CAADIX\, Förche 46\, Natz Schabs\, Italien
END:VEVENT
BEGIN:VEVENT
DTSTART;TZID=Europe/Berlin:20260327T080000
DTEND;TZID=Europe/Berlin:20260327T170000
DTSTAMP:20260421T185619
CREATED:20260219T143433Z
LAST-MODIFIED:20260219T143433Z
UID:15390-1774598400-1774630800@www.geom.bz.it
SUMMARY:27.03.2026 - Schabs CAADIX  - Autodesk Revit Vorlagendatei
DESCRIPTION:27.03.2026 – Schabs CAADIX – Autodesk Revit Vorlagendatei \n
URL:https://www.geom.bz.it/it/event/27-03-2026-schabs-caadix-autodesk-revit-vorlagendatei/
LOCATION:CAADIX\, Förche 46\, Natz Schabs\, Italien
END:VEVENT
BEGIN:VEVENT
DTSTART;TZID=Europe/Berlin:20260327T090000
DTEND;TZID=Europe/Berlin:20260327T130000
DTSTAMP:20260421T185619
CREATED:20260304T183957Z
LAST-MODIFIED:20260304T184009Z
UID:15568-1774602000-1774616400@www.geom.bz.it
SUMMARY:27.03.2026 - Webinar - Il conto termico 3.0
DESCRIPTION:27.03.2026 – Webinar – Il conto termico 3.0 \n
URL:https://www.geom.bz.it/it/event/27-03-2026-webinar-il-conto-termico-3-0/
LOCATION:Webinar
END:VEVENT
END:VCALENDAR